Workbook
Name foot_4_place: '7A. melléklet'!$A$18
Name foot_5_place: '7A. melléklet'!#REF!
Name foot_53_place: '7A. melléklet'!$A$63

Sheet 1. melléklet
A1: 1. melléklet a 4/2019.(V.7.) önkormányzati rendelethez
A3: SORKIKÁPOLNA Község Önkormányzat 2018. évi zárszámadása
A4: Az egységes rovatrend szerint a kiemelt kiadási és bevételi jogcímek
A7: K1. Személyi juttatások
A8: K2. Munkaadókat terhelő járulékok és szociális hozzájárulási adó
A9: K3. Dologi kiadások
A10: K4. Ellátottak pénzbeli juttatásai
A11: K5. Egyéb működési célú kiadások
A12: K6. Beruházási kiadások
A13: K7. Felújítások
A14: K8. Egyéb felhalmozási célú kiadások
A15: K1-8. Költségvetési kiadások
... A27: BEVÉTELEK ÖSSZESEN (B1-8)

Sheet 2A. melléklet
A1: 2A. melléklet a 4/2019.(V.7.) önkormányzati rendelethez
A2: SORKIKÁPOLNA Község Önkormányzat 2018. évi zárszámadása
A3: Bevételek (Ft)
A5: Rovat megnevezése | B5: Rovat- szám | C5: eredeti ei. | D5: módosított ei. | E5: teljesítés
A6: Helyi önkormányzatok működésének általános támogatása | B6: B111 | C6: 10917211 | D6: 10917211 | E6: 10917211
A7: Települési önkormányzatok egyes köznevelési feladatainak támogatása | B7: B112 | D7: 0 | E7: 0
A8: Települési önkormányzatok szociális és gyermekjóléti feladatainak támogatása | B8: B113 | C8: 4680000 | D8: 4765793 | E8: 4765793
A9: Települési önkormányzatok kulturális feladatainak támogatása | B9: B114 | C9: 1800000 | D9: 1800000 | E9: 1800000
A10: Működési célú központosított előirányzatok | B10: B115 | D10: 420000 | E10: 420000
A11: Helyi önkormányzatok kiegészítő támogatásai | B11: B116 | D11: 0 | E11: 0
A12: Önkormányzatok működési támogatásai | B12: B11 | C12: =SUM(C6:C11) -> 17397211 | D12: =SUM(D6:D11) -> 17903004 | E12: =SUM(E6:E11) -> 17903004
A13: Elvonások és befizetések bevételei | B13: B12 | D13: 0 | E13: 0
A14: Működési célú garancia- és kezességvállalásból származó megtérülések államháztartáson belülről | B14: B13 | D14: 0 | E14: 0
A15: Működési célú visszatérítendő támogatások, kölcsönök visszatérülése államháztartáson belülről | B15: B14 | D15: 0 | E15: 0
A16: Működési célú visszatérítendő támogatások, kölcsönök igénybevétele államháztartáson belülről | B16: B15 | D16: 0 | E16: 0
A17: Egyéb működési célú támogatások bevételei államháztartáson belülről | B17: B16 | C17: 81530 | D17: 81530 | E17: 16069848
A18: Működési célú támogatások államháztartáson belülről | B18: B1 | C18: =SUM(C12:C17) -> 17478741 | D18: =SUM(D12:D17) -> 17984534 | E18: =SUM(E12:E17) -> 33972852
A19: Magánszemélyek jövedelemadói | B19: B311
A20: Társaságok jövedelemadói | B20: B312
A21: Jövedelemadók | B21: B31
A22: Szociális hozzájárulási adó és járulékok | B22: B32
A23: Bérhez és foglalkoztatáshoz kapcsolódó adók | B23: B33
A24: Vagyoni tipusú adók | B24: B34 | C24: 240000 | D24: 240000 | E24: 273889
A25: Értékesítési és forgalmi adók | B25: B351 | C25: 4650000 | D25: 4650000 | E25: 3264911
A26: Fogyasztási adók | B26: B352
A27: Pénzügyi monopóliumok nyereségét terhelő adók | B27: B353
A28: Gépjárműadók | B28: B354 | C28: 500000 | D28: 500000 | E28: 516329
A29: Egyéb áruhasználati és szolgáltatási adók | B29: B355 | C29: 30000 | D29: 30000 | E29: 111900
A30: Termékek és szolgáltatások adói | B30: B35 | C30: =SUM(C25:C29) -> 5180000 | D30: =SUM(D25:D29) -> 5180000 | E30: =SUM(E25:E29) -> 3893140
A31: Egyéb közhatalmi bevételek | B31: B36 | C31: 0 | D31: 0 | E31: 20348
A32: Közhatalmi bevételek | B32: B3 | C32: =SUM(C24+C30+C31) -> 5420000 | D32: =SUM(D21+D22+D23+D24+D30+D31) -> 5420000 | E32: =SUM(E24+E30+E31) -> 4187377
A33: Áru- és készletértékesítés ellenértéke | B33: B401
A34: Szolgáltatások ellenértéke | B34: B402 | C34: 0 | D34: 0 | E34: 0
A35: Közvetített szolgáltatások értéke | B35: B403 | C35: 120000 | D35: 120000 | E35: 0
A36: Tulajdonosi bevételek | B36: B404 | C36: 0 | D36: 0 | E36: 134520
A37: Ellátási díjak | B37: B405
A38: Kiszámlázott általános forgalmi adó | B38: B406
A39: Általános forgalmi adó visszatérítése | B39: B407
A40: Kamatbevételek | B40: B408 | C40: 0 | D40: 0 | E40: 17625
A41: Egyéb pénzügyi műveletek bevételei | B41: B409
...

Sheet 2B. melléklet
A1: 2/B. melléklet a 4/2019.(V.7.) önkormányzati rendelethez
A2: SORKIKÁPOLNA Község Önkormányzat 2018. évi zárszámadása
A3: Bevételek (Ft)
A5: Rovat megnevezése | B5: Rovat-szám | C5: kötelező feladatok | F5: önként vállalt feladatok | I5: állami (államigazgatási) feladatok | L5: ÖSSZESEN
C6: eredeti ei. | D6: módosított ei. | E6: teljesítés | F6: eredeti ei. | G6: módosított ei. | H6: teljesítés | I6: eredeti ei. | J6: módosított ei. | K6: teljesítés | L6: eredeti ei. | M6: módosított ei. | N6: teljesítés
A7: Helyi önkormányzatok működésének általános támogatása | B7: B111 | C7: =SUM('2A. melléklet'!C6) -> 10917211 | D7: =SUM('2A. melléklet'!D6) -> 10917211 | E7: =SUM('2A. melléklet'!E6) -> 10917211 | L7: =SUM(C7+F7+I7) -> 10917211 | M7: =SUM(D7+G7+J7) -> 10917211 | N7: =SUM(E7+H7+K7) -> 10917211
A8: Települési önkormányzatok egyes köznevelési feladatainak támogatása | B8: B112 | C8: =SUM('2A. melléklet'!C7) -> 0 | D8: =SUM('2A. melléklet'!D7) -> 0 | E8: =SUM('2A. melléklet'!E7) -> 0
A9: Települési önkormányzatok szociális és gyermekjóléti feladatainak támogatása | B9: B113 | C9: =SUM('2A. melléklet'!C8) -> 4680000 | D9: =SUM('2A. melléklet'!D8) -> 4765793 | E9: =SUM('2A. melléklet'!E8) -> 4765793 | L9: =SUM(C9+F9+I9) -> 4680000 | M9: =SUM(D9+G9+J9) -> 4765793 | N9: =SUM(E9+H9+K9) -> 4765793
A10: Települési önkormányzatok kulturális feladatainak támogatása | B10: B114 | C10: =SUM('2A. melléklet'!C9) -> 1800000 | D10: =SUM('2A. melléklet'!D9) -> 1800000 | E10: =SUM('2A. melléklet'!E9) -> 1800000 | L10: =SUM(C10+F10+I10) -> 1800000 | M10: =SUM(D10+G10+J10) -> 1800000 | N10: =SUM(E10+H10+K10) -> 1800000
A11: Működési célú központosított előirányzatok | B11: B115 | C11: =SUM('2A. melléklet'!C10) -> 0 | D11: =SUM('2A. melléklet'!D10) -> 420000 | E11: =SUM('2A. melléklet'!E10) -> 420000 | M11: =SUM(D11+G11+J11) -> 420000 | N11: =SUM(E11+H11+K11) -> 420000
A12: Helyi önkormányzatok kiegészítő támogatásai | B12: B116 | C12: =SUM('2A. melléklet'!C11) -> 0 | D12: =SUM('2A. melléklet'!D11) -> 0 | E12: =SUM('2A. melléklet'!E11) -> 0
A13: Önkormányzatok működési támogatásai | B13: B11 | C13: =SUM(C7:C12) -> 17397211 | D13: =SUM(D7:D12) -> 17903004 | E13: =SUM(E7:E12) -> 17903004 | L13: =SUM(C13+F13+I13) -> 17397211 | M13: =SUM(D13+G13+J13) -> 17903004 | N13: =SUM(E13+H13+K13) -> 17903004
A14: Elvonások és befizetések bevételei | B14: B12 | C14: =SUM('2A. melléklet'!C13) -> 0 | D14: =SUM('2A. melléklet'!D13) -> 0 | E14: =SUM('2A. melléklet'!E13) -> 0
A15: Működési célú garancia- és kezességvállalásból származó megtérülések államháztartáson belülről | B15: B13 | C15: =SUM('2A. melléklet'!C14) -> 0 | D15: =SUM('2A. melléklet'!D14) -> 0 | E15: =SUM('2A. melléklet'!E14) -> 0
A16: Működési célú visszatérítendő támogatások, kölcsönök visszatérülése államháztartáson belülről | B16: B14 | C16: =SUM('2A. melléklet'!C15) -> 0 | D16: =SUM('2A. melléklet'!D15) -> 0 | E16: =SUM('2A. melléklet'!E15) -> 0
A17: Működési célú visszatérítendő támogatások, kölcsönök igénybevétele államháztartáson belülről | B17: B15 | C17: =SUM('2A. melléklet'!C16) -> 0 | D17: =SUM('2A. melléklet'!D16) -> 0 | E17: =SUM('2A. melléklet'!E16) -> 0
A18: Egyéb működési célú támogatások bevételei államháztartáson belülről | B18: B16 | C18: =SUM('2A. melléklet'!C17) -> 81530 | D18: =SUM('2A. melléklet'!D17) -> 81530 | E18: =SUM('2A. melléklet'!E17) -> 16069848 | L18: =SUM(C18+F18+I18) -> 81530 | M18: =SUM(D18+G18+J18) -> 81530 | N18: =SUM(E18+H18+K18) -> 16069848
A19: Működési célú támogatások államháztartáson belülről | B19: B1 | C19: =SUM(C13+C18) -> 17478741 | D19: =SUM(D13+D18) -> 17984534 | E19: =SUM(E13+E18) -> 33972852 | L19: =SUM(C19+F19+I19) -> 17478741 | M19: =SUM(D19+G19+J19) -> 17984534 | N19: =SUM(E19+H19+K19) -> 33972852
A20: Magánszemélyek jövedelemadói | B20: B311 | C20: =SUM('2A. melléklet'!C19) -> 0 | D20: =SUM('2A. melléklet'!D19) -> 0 | E20: =SUM('2A. melléklet'!E19) -> 0
A21: Társaságok jövedelemadói | B21: B312 | C21: =SUM('2A. melléklet'!C20) -> 0 | D21: =SUM('2A. melléklet'!D20) -> 0 | E21: =SUM('2A. melléklet'!E20) -> 0
A22: Jövedelemadók | B22: B31
A23: Szociális hozzájárulási adó és járulékok | B23: B32 | C23: =SUM('2A. melléklet'!C22) -> 0 | D23: =SUM('2A. melléklet'!D22) -> 0 | E23: =SUM('2A. melléklet'!E22) -> 0
A24: Bérhez és foglalkoztatáshoz kapcsolódó adók | B24: B33 | C24: =SUM('2A. melléklet'!C23) -> 0 | D24: =SUM('2A. melléklet'!D23) -> 0 | E24: =SUM('2A. melléklet'!E23) -> 0
A25: Vagyoni tipusú adók | B25: B34 | C25: =SUM('2A. melléklet'!C24) -> 240000 | D25: =SUM('2A. melléklet'!D24) -> 240000 | E25: =SUM('2A. melléklet'!E24) -> 273889 | L25: =SUM(C25+F25+I25) -> 240000 | M25: =SUM(D25+G25+J25) -> 240000 | N25: =SUM(E25+H25+K25) -> 273889
A26: Értékesítési és forgalmi adók | B26: B351 | C26: =SUM('2A. melléklet'!C25) -> 4650000 | D26: =SUM('2A. melléklet'!D25) -> 4650000 | E26: =SUM('2A. melléklet'!E25) -> 3264911 | L26: =SUM(C26+F26+I26) -> 4650000 | M26: =SUM(D26+G26+J26) -> 4650000 | N26: =SUM(E26+H26+K26) -> 3264911
A27: Fogyasztási adók | B27: B352 | C27: =SUM('2A. melléklet'!C26) -> 0 | D27: =SUM('2A. melléklet'!D26) -> 0 | E27: =SUM('2A. melléklet'!E26) -> 0
A28: Pénzügyi monopóliumok nyereségét terhelő adók | B28: B353 | C28: =SUM('2A. melléklet'!C27) -> 0 | D28: =SUM('2A. melléklet'!D27) -> 0 | E28: =SUM('2A. melléklet'!E27) -> 0
A29: Gépjárműadók | B29: B354 | C29: =SUM('2A. melléklet'!C28) -> 500000 | D29: =SUM('2A. melléklet'!D28) -> 500000 | E29: =SUM('2A. melléklet'!E28) -> 516329 | L29: =SUM(C29+F29+I29) -> 500000 | M29: =SUM(D29+G29+J29) -> 500000 | N29: =SUM(E29+H29+K29) -> 516329
A30: Egyéb áruhasználati és szolgáltatási adók | B30: B355 | C30: =SUM('2A. melléklet'!C29) -> 30000 | D30: =SUM('2A. melléklet'!D29) -> 30000 | E30: =SUM('2A. melléklet'!E29) -> 111900 | L30: =SUM(C30+F30+I30) -> 30000 | M30: =SUM(D30+G30+J30) -> 30000 | N30: =SUM(E30+H30+K30) -> 111900
A31: Termékek és szolgáltatások adói | B31: B35 | C31: =SUM(C26:C30) -> 5180000 | D31: =SUM(D26:D30) -> 5180000 | E31: =SUM(E26:E30) -> 3893140 | L31: =SUM(C31+F31+I31) -> 5180000 | M31: =SUM(D31+G31+J31) -> 5180000 | N31: =SUM(E31+H31+K31) -> 3893140
A32: Egyéb közhatalmi bevételek | B32: B36 | C32: =SUM('2A. melléklet'!C31) -> 0 | D32: =SUM('2A. melléklet'!D31) -> 0 | E32: =SUM('2A. melléklet'!E31) -> 20348 | L32: =SUM(C32+F32+I32) -> 0 | M32: =SUM(D32+G32+J32) -> 0 | N32: =SUM(E32+H32+K32) -> 20348
A33: Közhatalmi bevételek | B33: B3 | C33: =SUM(C22+C23+C24+C25+C31+C32) -> 5420000 | D33: =SUM(D22+D23+D24+D25+D31+D32) -> 5420000 | E33: =SUM(E22+E23+E24+E25+E31+E32) -> 4187377 | L33: =SUM(C33+F33+I33) -> 5420000 | M33: =SUM(D33+G33+J33) -> 5420000 | N33: =SUM(E33+H33+K33) -> 4187377
A34: Áru- és készletértékesítés ellenértéke | B34: B401 | C34: =SUM('2A. melléklet'!C33) -> 0 | D34: =SUM('2A. melléklet'!D33) -> 0 | E34: =SUM('2A. melléklet'!E33) -> 0
A35: Szolgáltatások ellenértéke | B35: B402 | C35: =SUM('2A. melléklet'!C34) -> 0 | D35: =SUM('2A. melléklet'!D34) -> 0 | E35: =SUM('2A. melléklet'!E34) -> 0 | M35: =SUM(D35+G35+J35) -> 0 | N35: =SUM(E35+H35+K35) -> 0
A36: Közvetített szolgáltatások értéke | B36: B403 | C36: =SUM('2A. melléklet'!C35) -> 120000 | D36: =SUM('2A. melléklet'!D35) -> 120000 | E36: =SUM('2A. melléklet'!E35) -> 0
A37: Tulajdonosi bevételek | B37: B404 | C37: =SUM('2A. melléklet'!C36) -> 0 | D37: =SUM('2A. melléklet'!D36) -> 0 | E37: =SUM('2A. melléklet'!E36) -> 134520 | L37: =SUM(C37+F37+I37) -> 0 | M37: =SUM(D37+G37+J37) -> 0 | N37: =SUM(E37+H37+K37) -> 134520
A38: Ellátási díjak | B38: B405 | C38: =SUM('2A. melléklet'!C37) -> 0 | D38: =SUM('2A. melléklet'!D37) -> 0 | E38: =SUM('2A. melléklet'!E37) -> 0
A39: Kiszámlázott általános forgalmi adó | B39: B406 | C39: =SUM('2A. melléklet'!C38) -> 0 | D39: =SUM('2A. melléklet'!D38) -> 0 | E39: =SUM('2A. melléklet'!E38) -> 0
A40: Általános forgalmi adó visszatérítése | B40: B407 | C40: =SUM('2A. melléklet'!C39) -> 0 | D40: =SUM('2A. melléklet'!D39) -> 0 | E40: =SUM('2A. melléklet'!E39) -> 0
A41: Kamatbevételek | B41: B408 | C41: =SUM('2A. melléklet'!C40) -> 0 | D41: =SUM('2A. melléklet'!D40) -> 0 | E41: =SUM('2A. melléklet'!E40) -> 17625 | L41: =SUM(C41+F41+I41) -> 0 | M41: =SUM(D41+G41+J41) -> 0 | N41: =SUM(E41+H41+K41) -> 17625
...

Sheet 3A. melléklet
A1: 3/A. melléklet a 4/2019.(V.7.) önkormányzati rendelethez
A2: SORKIKÁPOLNA Község Önkormányzat 2018. évi zárszámadása
A3: Kiadások (Ft)
A5: Rovat megnevezése | B5: Rovat-szám | C5: eredeti ei. | D5: módosított ei. | E5: teljesítés
A6: Törvény szerinti illetmények, munkabérek | B6: K1101 | C6: 4496330 | D6: 4231572 | E6: 4230957
A7: Normatív jutalmak | B7: K1102 | D7: 0 | E7: 0
A8: Céljuttatás, projektprémium | B8: K1103 | D8: 0 | E8: 0
A9: Készenléti, ügyeleti, helyettesítési díj, túlóra, túlszolgálat | B9: K1104 | D9: 0 | E9: 0
A10: Végkielégítés | B10: K1105 | D10: 0 | E10: 0
A11: Jubileumi jutalom | B11: K1106 | D11: 0 | E11: 0
A12: Béren kívüli juttatások | B12: K1107 | C12: 282000 | D12: 282000 | E12: 240000
A13: Ruházati költségtérítés | B13: K1108 | D13: 0 | E13: 0
A14: Közlekedési költségtérítés | B14: K1109 | D14: 0 | E14: 0
A15: Egyéb költségtérítések | B15: K1110 | D15: 0 | E15: 0
A16: Lakhatási támogatások | B16: K1111 | D16: 0 | E16: 0
A17: Szociális támogatások | B17: K1112 | D17: 0 | E17: 0
A18: Foglalkoztatottak egyéb személyi juttatásai | B18: K1113 | D18: 90250 | E18: 90250
A19: Foglalkoztatottak személyi juttatásai | B19: K11 | C19: =SUM(C6:C18) -> 4778330 | D19: =SUM(D6:D18) -> 4603822 | E19: =SUM(E6:E18) -> 4561207
A20: Választott tisztségviselők juttatásai | B20: K121 | C20: 3062860 | D20: 3062860 | E20: 2495160
A21: Munkavégzésre irányuló egyéb jogviszonyban nem saját foglalkoztatottnak fizetett juttatások | B21: K122 | C21: 0 | D21: 2210000 | E21: 2210000
A22: Egyéb külső személyi juttatások | B22: K123 | C22: 760000 | D22: 610000 | E22: 392340
A23: Külső személyi juttatások | B23: K12 | C23: =SUM(C20:C22) -> 3822860 | D23: =SUM(D20:D22) -> 5882860 | E23: =SUM(E20:E22) -> 5097500
A24: Személyi juttatások | B24: K1 | C24: =SUM(C23,C19) -> 8601190 | D24: =SUM(D23,D19) -> 10486682 | E24: =SUM(E23,E19) -> 9658707
A25: Munkaadókat terhelő járulékok és szociális hozzájárulási adó | B25: K2 | C25: 1596847 | D25: 1900453 | E25: 1900453
A26: Szakmai anyagok beszerzése | B26: K311 | C26: 0 | D26: 38000 | E26: 37543
A27: Üzemeltetési anyagok beszerzése | B27: K312 | C27: 1513000 | D27: 1624505 | E27: 1624505
A28: Árubeszerzés | B28: K313 | D28: 0 | E28: 0
A29: Készletbeszerzés | B29: K31 | C29: =SUM(C26:C28) -> 1513000 | D29: =SUM(D26:D28) -> 1662505 | E29: =SUM(E26:E28) -> 1662048
A30: Informatikai szolgáltatások igénybevétele | B30: K321 | C30: 50000 | D30: 450000 | E30: 340442
A31: Egyéb kommunikációs szolgáltatások | B31: K322 | C31: 1430000 | D31: 630000 | E31: 150345
A32: Kommunikációs szolgáltatások | B32: K32 | C32: =SUM(C30:C31) -> 1480000 | D32: =SUM(D30:D31) -> 1080000 | E32: =SUM(E30:E31) -> 490787
A33: Közüzemi díjak | B33: K331 | C33: 2143920 | D33: 2143920 | E33: 1432594
A34: Vásárolt élelmezés | B34: K332 | C34: 0 | D34: 0 | E34: 0
A35: Bérleti és lízing díjak | B35: K333 | D35: 0 | E35: 0
A36: Karbantartási, kisjavítási szolgáltatások | B36: K334 | C36: 1080580 | D36: 1369393 | E36: 1369393
A37: Közvetített szolgáltatások | B37: K335 | D37: 0 | E37: 0
A38: Szakmai tevékenységet segítő szolgáltatások | B38: K336 | C38: 140000 | D38: 141900 | E38: 141900
A39: Egyéb szolgáltatások | B39: K337 | C39: 3250000 | D39: 3250000 | E39: 2584540
A40: Szolgáltatási kiadások | B40: K33 | C40: =SUM(C33:C39) -> 6614500 | D40: =SUM(D33:D39) -> 6905213 | E40: =SUM(E33:E39) -> 5528427
A41: Kiküldetések kiadásai | B41: K341 | D41: 0 | E41: 0
...

Sheet 3B. melléklet
A1: 3/B. melléklet a 4/2019.(V.7.) önkormányzati rendelethez
A2: SORKIKÁPOLNA Község Önkormányzat 2018. évi zárszámadása
A3: Kiadások (Ft)
A5: Rovat megnevezése | B5: Rovat-szám | C5: kötelező feladatok | F5: önként vállalt feladatok | I5: állami (államigazgatási) feladatok | L5: ÖSSZESEN
C6: eredeti ei. | D6: módosított ei. | E6: teljesítés | F6: eredeti ei. | G6: módosított ei. | H6: teljesítés | I6: eredeti ei. | J6: módosított ei. | K6: teljesítés | L6: eredeti ei. | M6: módosított ei. | N6: teljesítés
A7: Törvény szerinti illetmények, munkabérek | B7: K1101 | C7: =SUM('3A. melléklet'!C6) -> 4496330 | D7: =SUM('3A. melléklet'!D6) -> 4231572 | E7: =SUM('3A. melléklet'!E6) -> 4230957 | L7: =SUM(C7) -> 4496330 | M7: =SUM(D7) -> 4231572 | N7: =SUM(E7) -> 4230957
A8: Normatív jutalmak | B8: K1102 | C8: =SUM('3A. melléklet'!C7) -> 0 | D8: =SUM('3A. melléklet'!D7) -> 0 | E8: =SUM('3A. melléklet'!E7) -> 0 | L8: =SUM(C8) -> 0 | M8: =SUM(D8) -> 0 | N8: =SUM(E8) -> 0
A9: Céljuttatás, projektprémium | B9: K1103 | C9: =SUM('3A. melléklet'!C8) -> 0 | D9: =SUM('3A. melléklet'!D8) -> 0 | E9: =SUM('3A. melléklet'!E8) -> 0 | L9: =SUM(C9) -> 0 | M9: =SUM(D9) -> 0 | N9: =SUM(E9) -> 0
A10: Készenléti, ügyeleti, helyettesítési díj, túlóra, túlszolgálat | B10: K1104 | C10: =SUM('3A. melléklet'!C9) -> 0 | D10: =SUM('3A. melléklet'!D9) -> 0 | E10: =SUM('3A. melléklet'!E9) -> 0 | L10: =SUM(C10) -> 0 | M10: =SUM(D10) -> 0 | N10: =SUM(E10) -> 0
A11: Végkielégítés | B11: K1105 | C11: =SUM('3A. melléklet'!C10) -> 0 | D11: =SUM('3A. melléklet'!D10) -> 0 | E11: =SUM('3A. melléklet'!E10) -> 0 | L11: =SUM(C11) -> 0 | M11: =SUM(D11) -> 0 | N11: =SUM(E11) -> 0
A12: Jubileumi jutalom | B12: K1106 | C12: =SUM('3A. melléklet'!C11) -> 0 | D12: =SUM('3A. melléklet'!D11) -> 0 | E12: =SUM('3A. melléklet'!E11) -> 0 | L12: =SUM(C12) -> 0 | M12: =SUM(D12) -> 0 | N12: =SUM(E12) -> 0
A13: Béren kívüli juttatások | B13: K1107 | C13: =SUM('3A. melléklet'!C12) -> 282000 | D13: =SUM('3A. melléklet'!D12) -> 282000 | E13: =SUM('3A. melléklet'!E12) -> 240000 | L13: =SUM(C13) -> 282000 | M13: =SUM(D13) -> 282000 | N13: =SUM(E13) -> 240000
A14: Ruházati költségtérítés | B14: K1108 | C14: =SUM('3A. melléklet'!C13) -> 0 | D14: =SUM('3A. melléklet'!D13) -> 0 | E14: =SUM('3A. melléklet'!E13) -> 0 | L14: =SUM(C14) -> 0 | M14: =SUM(D14) -> 0 | N14: =SUM(E14) -> 0
A15: Közlekedési költségtérítés | B15: K1109 | C15: =SUM('3A. melléklet'!C14) -> 0 | D15: =SUM('3A. melléklet'!D14) -> 0 | E15: =SUM('3A. melléklet'!E14) -> 0 | L15: =SUM(C15) -> 0 | M15: =SUM(D15) -> 0 | N15: =SUM(E15) -> 0
A16: Egyéb költségtérítések | B16: K1110 | C16: =SUM('3A. melléklet'!C15) -> 0 | D16: =SUM('3A. melléklet'!D15) -> 0 | E16: =SUM('3A. melléklet'!E15) -> 0 | L16: =SUM(C16) -> 0 | M16: =SUM(D16) -> 0 | N16: =SUM(E16) -> 0
A17: Lakhatási támogatások | B17: K1111 | C17: =SUM('3A. melléklet'!C16) -> 0 | D17: =SUM('3A. melléklet'!D16) -> 0 | E17: =SUM('3A. melléklet'!E16) -> 0 | L17: =SUM(C17) -> 0 | M17: =SUM(D17) -> 0 | N17: =SUM(E17) -> 0
A18: Szociális támogatások | B18: K1112 | C18: =SUM('3A. melléklet'!C17) -> 0 | D18: =SUM('3A. melléklet'!D17) -> 0 | E18: =SUM('3A. melléklet'!E17) -> 0 | L18: =SUM(C18) -> 0 | M18: =SUM(D18) -> 0 | N18: =SUM(E18) -> 0
A19: Foglalkoztatottak egyéb személyi juttatásai | B19: K1113 | C19: =SUM('3A. melléklet'!C18) -> 0 | D19: =SUM('3A. melléklet'!D18) -> 90250 | E19: =SUM('3A. melléklet'!E18) -> 90250 | L19: =SUM(C19) -> 0 | M19: =SUM(D19) -> 90250 | N19: =SUM(E19) -> 90250
A20: Foglalkoztatottak személyi juttatásai | B20: K11 | C20: =SUM(C7:C19) -> 4778330 | D20: =SUM(D7:D19) -> 4603822 | E20: =SUM(E7:E19) -> 4561207 | F20: =SUM(F7:F19) -> 0 | G20: =SUM(G7:G19) -> 0 | H20: =SUM(H7:H19) -> 0 | I20: =SUM(I7:I19) -> 0 | J20: =SUM(J7:J19) -> 0 | ... N20: =SUM(N7:N19) -> 4561207
A21: Választott tisztségviselők juttatásai | B21: K121 | C21: =SUM('3A. melléklet'!C20) -> 3062860 | D21: =SUM('3A. melléklet'!D20) -> 3062860 | E21: =SUM('3A. melléklet'!E20) -> 2495160 | L21: =SUM(C21) -> 3062860 | M21: =SUM(D21) -> 3062860 | N21: =SUM(E21) -> 2495160
A22: Munkavégzésre irányuló egyéb jogviszonyban nem saját foglalkoztatottnak fizetett juttatások | B22: K122 | C22: =SUM('3A. melléklet'!C21) -> 0 | D22: =SUM('3A. melléklet'!D21) -> 2210000 | E22: =SUM('3A. melléklet'!E21) -> 2210000 | L22: =SUM(C22) -> 0 | M22: =SUM(D22) -> 2210000 | N22: =SUM(E22) -> 2210000
A23: Egyéb külső személyi juttatások | B23: K123 | C23: =SUM('3A. melléklet'!C22) -> 760000 | D23: =SUM('3A. melléklet'!D22) -> 610000 | E23: =SUM('3A. melléklet'!E22) -> 392340 | L23: =SUM(C23) -> 760000 | M23: =SUM(D23) -> 610000 | N23: =SUM(E23) -> 392340
A24: Külső személyi juttatások | B24: K12 | C24: =SUM(C21:C23) -> 3822860 | D24: =SUM(D21:D23) -> 5882860 | E24: =SUM(E21:E23) -> 5097500 | F24: =SUM(F21:F23) -> 0 | G24: =SUM(G21:G23) -> 0 | H24: =SUM(H21:H23) -> 0 | I24: =SUM(I21:I23) -> 0 | J24: =SUM(J21:J23) -> 0 | ... N24: =SUM(N21:N23) -> 5097500
A25: Személyi juttatások | B25: K1 | C25: =SUM(C24,C20) -> 8601190 | D25: =SUM(D24,D20) -> 10486682 | E25: =SUM(E24,E20) -> 9658707 | F25: =SUM(F24,F20) -> 0 | G25: =SUM(G24,G20) -> 0 | H25: =SUM(H24,H20) -> 0 | I25: =SUM(I24,I20) -> 0 | J25: =SUM(J24,J20) -> 0 | ... N25: =SUM(N24,N20) -> 9658707
A26: Munkaadókat terhelő járulékok és szociális hozzájárulási adó | B26: K2 | C26: =SUM('3A. melléklet'!C25) -> 1596847 | D26: =SUM('3A. melléklet'!D25) -> 1900453 | E26: =SUM('3A. melléklet'!E25) -> 1900453 | L26: =SUM(C26) -> 1596847 | M26: =SUM(D26) -> 1900453 | N26: =SUM(E26) -> 1900453
A27: Szakmai anyagok beszerzése | B27: K311 | C27: =SUM('3A. melléklet'!C26) -> 0 | D27: =SUM('3A. melléklet'!D26) -> 38000 | E27: =SUM('3A. melléklet'!E26) -> 37543 | L27: =SUM(C27) -> 0 | M27: =SUM(D27) -> 38000 | N27: =SUM(E27) -> 37543
A28: Üzemeltetési anyagok beszerzése | B28: K312 | C28: =SUM('3A. melléklet'!C27) -> 1513000 | D28: =SUM('3A. melléklet'!D27) -> 1624505 | E28: =SUM('3A. melléklet'!E27) -> 1624505 | L28: =SUM(C28) -> 1513000 | M28: =SUM(D28) -> 1624505 | N28: =SUM(E28) -> 1624505
A29: Árubeszerzés | B29: K313 | C29: =SUM('3A. melléklet'!C28) -> 0 | D29: =SUM('3A. melléklet'!D28) -> 0 | E29: =SUM('3A. melléklet'!E28) -> 0 | L29: =SUM(C29) -> 0 | M29: =SUM(D29) -> 0 | N29: =SUM(E29) -> 0
A30: Készletbeszerzés | B30: K31 | C30: =SUM(C27:C29) -> 1513000 | D30: =SUM(D27:D29) -> 1662505 | E30: =SUM(E27:E29) -> 1662048 | F30: =SUM(F27:F29) -> 0 | G30: =SUM(G27:G29) -> 0 | H30: =SUM(H27:H29) -> 0 | I30: =SUM(I27:I29) -> 0 | J30: =SUM(J27:J29) -> 0 | ... N30: =SUM(N27:N29) -> 1662048
A31: Informatikai szolgáltatások igénybevétele | B31: K321 | C31: =SUM('3A. melléklet'!C30) -> 50000 | D31: =SUM('3A. melléklet'!D30) -> 450000 | E31: =SUM('3A. melléklet'!E30) -> 340442 | L31: =SUM(C31) -> 50000 | M31: =SUM(D31) -> 450000 | N31: =SUM(E31) -> 340442
A32: Egyéb kommunikációs szolgáltatások | B32: K322 | C32: =SUM('3A. melléklet'!C31) -> 1430000 | D32: =SUM('3A. melléklet'!D31) -> 630000 | E32: =SUM('3A. melléklet'!E31) -> 150345 | L32: =SUM(C32) -> 1430000 | M32: =SUM(D32) -> 630000 | N32: =SUM(E32) -> 150345
A33: Kommunikációs szolgáltatások | B33: K32 | C33: =SUM(C31:C32) -> 1480000 | D33: =SUM(D31:D32) -> 1080000 | E33: =SUM(E31:E32) -> 490787 | F33: =SUM(F31:F32) -> 0 | G33: =SUM(G31:G32) -> 0 | H33: =SUM(H31:H32) -> 0 | I33: =SUM(I31:I32) -> 0 | J33: =SUM(J31:J32) -> 0 | ... N33: =SUM(N31:N32) -> 490787
A34: Közüzemi díjak | B34: K331 | C34: =SUM('3A. melléklet'!C33) -> 2143920 | D34: =SUM('3A. melléklet'!D33) -> 2143920 | E34: =SUM('3A. melléklet'!E33) -> 1432594 | L34: =SUM(C34) -> 2143920 | M34: =SUM(D34) -> 2143920 | N34: =SUM(E34) -> 1432594
A35: Vásárolt élelmezés | B35: K332 | C35: =SUM('3A. melléklet'!C34) -> 0 | D35: =SUM('3A. melléklet'!D34) -> 0 | E35: =SUM('3A. melléklet'!E34) -> 0 | L35: =SUM(C35) -> 0 | M35: =SUM(D35) -> 0 | N35: =SUM(E35) -> 0
A36: Bérleti és lízing díjak | B36: K333 | C36: =SUM('3A. melléklet'!C35) -> 0 | D36: =SUM('3A. melléklet'!D35) -> 0 | E36: =SUM('3A. melléklet'!E35) -> 0 | L36: =SUM(C36) -> 0 | M36: =SUM(D36) -> 0 | N36: =SUM(E36) -> 0
A37: Karbantartási, kisjavítási szolgáltatások | B37: K334 | C37: =SUM('3A. melléklet'!C36) -> 1080580 | D37: =SUM('3A. melléklet'!D36) -> 1369393 | E37: =SUM('3A. melléklet'!E36) -> 1369393 | L37: =SUM(C37) -> 1080580 | M37: =SUM(D37) -> 1369393 | N37: =SUM(E37) -> 1369393
A38: Közvetített szolgáltatások | B38: K335 | C38: =SUM('3A. melléklet'!C37) -> 0 | D38: =SUM('3A. melléklet'!D37) -> 0 | E38: =SUM('3A. melléklet'!E37) -> 0 | L38: =SUM(C38) -> 0 | M38: =SUM(D38) -> 0 | N38: =SUM(E38) -> 0
A39: Szakmai tevékenységet segítő szolgáltatások | B39: K336 | C39: =SUM('3A. melléklet'!C38) -> 140000 | D39: =SUM('3A. melléklet'!D38) -> 141900 | E39: =SUM('3A. melléklet'!E38) -> 141900 | L39: =SUM(C39) -> 140000 | M39: =SUM(D39) -> 141900 | N39: =SUM(E39) -> 141900
A40: Egyéb szolgáltatások | B40: K337 | C40: =SUM('3A. melléklet'!C39) -> 3250000 | D40: =SUM('3A. melléklet'!D39) -> 3250000 | E40: =SUM('3A. melléklet'!E39) -> 2584540 | L40: =SUM(C40) -> 3250000 | M40: =SUM(D40) -> 3250000 | N40: =SUM(E40) -> 2584540
A41: Szolgáltatási kiadások | B41: K33 | C41: =SUM(C34:C40) -> 6614500 | D41: =SUM(D34:D40) -> 6905213 | E41: =SUM(E34:E40) -> 5528427 | F41: =SUM(F34:F40) -> 0 | G41: =SUM(G34:G40) -> 0 | H41: =SUM(H34:H40) -> 0 | I41: =SUM(I34:I40) -> 0 | J41: =SUM(J34:J40) -> 0 | ... N41: =SUM(N34:N40) -> 5528427
...

Sheet 4 melléklet
A1: 4. melléklet a 4/2019.(V.7.) önkormányzati rendelethez
A2: SORKIKÁPOLNA Község Önkormányzat 2018. évi zárszámadása
A3: Foglalkoztatottak létszáma (fő)
A5: MEGNEVEZÉS | B5: Költségvetési engedélyezett létszámkeret (álláshely) (fő) ÖNKORMÁNYZAT
A6: főjegyző, jegyző, aljegyző, címzetes főjegyző, körjegyző | B6: 0
A7: I. besorolási osztály összesen | B7: 0
A8: II. besorolási osztály összesen | B8: 0
A9: III. besorolási osztály összesen | B9: 0
A10: KÖZTISZTVISELŐK, KORMÁNYTISZTVISELŐK ÖSSZESEN | B10: 0
A11: igazgató (főigazgató), igazgatóhelyettes (főigazgató-helyettes) | B11: 0
A12: főosztályvezető, főosztályvezető-helyettes, osztályvezető, ügykezelő osztályvezető, további vezető | B12: 0
A13: főtanácsos, főmunkatárs, tanácsos, munkatárs | B13: 0
A14: "A", "B" fizetési osztály összesen | B14: 1
A15: "C", "D" fizetési osztály összesen | B15: 0
A16: "E"-"J" fizetési osztály összesen | B16: 0
A17: kutató, felsőoktatásban oktató | B17: 0
A18: KÖZALKALMAZOTTAK ÖSSZESEN | B18: =SUM(B13:B17) -> 1
A19: fizikai alkalmazott, a költségvetési szerveknél foglalkoztatott egyéb munkavállaló (fizikai alkalmazott) | B19: 1
A20: ösztöndíjas foglalkoztatott | B20: 0
A21: közfoglalkoztatott | B21: 1
A22: EGYÉB BÉRRENDSZER ÖSSZESEN | B22: =B19+B21 -> 2
A23: polgármester, főpolgármester | B23: 1
A24: helyi önkormányzati képviselő-testület tagja, megyei közgyűlés tagja | B24: 4
A25: alpolgármester, főpolgármester-helyettes, megyei közgyűlés elnöke, alelnöke | B25: 0
A26: VÁLASZTOTT TISZTSÉGVISELŐK ÖSSZESEN | B26: =B23+B25+B24 -> 5
A27: KÖLTSÉGVETÉSI ENGEDÉLYEZETT LÉTSZÁMKERETBE TARTOZÓ FOGLALKOZTATOTTAK LÉTSZÁMA MINDÖSSZESEN | B27: 8
A28: prémiumévek programról és a különleges foglalkoztatási állományról szóló 2004. évi CXXII. törvény alapján foglalkoztatott prémiumévesek | B28: 0
A29: prémiumévek programról és a különleges foglalkoztatási állományról szóló 2004. évi CXXII. törvény alapján foglalkoztatott különleges foglalkoztatási állományba helyezettek létszáma | B29: 0
A30: ösztöndíjas foglalkoztatottak (Pftv, illetve Magyar Közigazgatási Ösztöndíjról szóló 228/2011. (X. 28.) Korm. rendelet) | B30: 0
A31: munkaerőpiactól tartósan távol lévő személyek | B31: 0
A32: KÖLTSÉGVETÉSI ENGEDÉLYEZETT LÉTSZÁMKERETBE NEM TARTOZÓ FOGLALKOZTATOTTAK LÉTSZÁMA AZ IDŐSZAK VÉGÉN ÖSSZESEN | B32: 0

Sheet 5 melléklet
A1: 5. melléklet a 4/2019.(V.7.) önkormányzati rendelethez
A2: SORKIKÁPOLNA Község Önkormányzat 2018. évi zárszámadása
A3: Beruházások és felújítások (Ft)
A5: Megnevezés | B5: Rovat-szám | C5: ÖNKORMÁNYZATI ELŐIRÁNYZATOK
C6: eredeti ei. | D6: módosított ei. | E6: teljesítés
A7: Immateriális javak beszerzése, létesítése | B7: K61 | C7: =SUM('3A. melléklet'!C75) -> 0 | D7: =SUM('3A. melléklet'!D75) -> 0 | E7: =SUM('3A. melléklet'!E75) -> 0
A10: Ingatlanok beszerzése, létesítése | B10: K62 | C10: =SUM('3A. melléklet'!C76) -> 3900000 | D10: =SUM('3A. melléklet'!D76) -> 3900000 | E10: =SUM('3A. melléklet'!E76) -> 0
A13: Informatikai eszközök beszerzése, létesítése | B13: K63 | C13: =SUM('3A. melléklet'!C77) -> 0 | D13: =SUM('3A. melléklet'!D77) -> 345339 | E13: =SUM('3A. melléklet'!E77) -> 345339
A14: Laptop
A16: Egyéb tárgyi eszközök beszerzése, létesítése | B16: K64 | C16: =SUM('3A. melléklet'!C78) -> 1033950 | D16: =SUM('3A. melléklet'!D78) -> 993950 | E16: =SUM('3A. melléklet'!E78) -> 201988
A19: Részesedések beszerzése | B19: K65 | C19: =SUM('3A. melléklet'!C79) -> 0 | D19: =SUM('3A. melléklet'!D79) -> 0 | E19: =SUM('3A. melléklet'!E79) -> 0
A22: Meglévő részesedések növeléséhez kapcsolódó kiadások | B22: K66 | C22: =SUM('3A. melléklet'!C80) -> 0 | D22: =SUM('3A. melléklet'!D80) -> 0 | E22: =SUM('3A. melléklet'!E80) -> 0
A23: Beruházási célú előzetesen felszámított általános forgalmi adó | B23: K67 | C23: =SUM('3A. melléklet'!C81) -> 380000 | D23: =SUM('3A. melléklet'!D81) -> 380000 | E23: =SUM('3A. melléklet'!E81) -> 147778
A24: Beruházások | B24: K6 | C24: =SUM(C7:C23) -> 5313950 | D24: =SUM(D7:D23) -> 5619289 | E24: =SUM(E7:E23) -> 695105
A25: Ingatlanok felújítása | B25: K71 | C25: =SUM('3A. melléklet'!C83) -> 27457678 | D25: =SUM('3A. melléklet'!D83) -> 25341279 | E25: =SUM('3A. melléklet'!E83) -> 21933000
A28: Informatikai eszközök felújítása | B28: K72 | C28: =SUM('3A. melléklet'!C84) -> 0 | D28: =SUM('3A. melléklet'!D84) -> 0 | E28: =SUM('3A. melléklet'!E84) -> 0
A31: Egyéb tárgyi eszközök felújítása | B31: K73 | C31: =SUM('3A. melléklet'!C85) -> 4000000 | D31: =SUM('3A. melléklet'!D85) -> 0 | E31: =SUM('3A. melléklet'!E85) -> 0
A32: Felújítási célú előzetesen felszámított általános forgalmi adó | B32: K74 | C32: =SUM('3A. melléklet'!C86) -> 2000000 | D32: =SUM('3A. melléklet'!D86) -> 6000000 | E32: =SUM('3A. melléklet'!E86) -> 5921911
A33: Felújítások | B33: K7 | C33: =SUM(C25:C32) -> 33457678 | D33: =SUM(D25:D32) -> 31341279 | E33: =SUM(E25:E32) -> 27854911

Sheet 6. melléklet
A1: 6. melléklet a 4/2019.(V.7.) önkormányzati rendelethez
A2: SORKIKÁPOLNA Község Önkormányzat 2018. évi zárszámadása
A3: Általános- és céltartalékok (Ft)
A5: Rovat megnevezése | B5: Rovat-szám | C5: ÖNKORMÁNYZATI ELŐIRÁNYZATOK
C6: eredeti ei. | D6: módosított ei.
A11: Általános tartalékok | B11: K513 | C11: =SUM('3A. melléklet'!C71) -> 4311246 | D11: =SUM('3A. melléklet'!D71) -> 4340155
A16: Céltartalékok- | B16: K513 | C16: 0 | D16: 0

Sheet 7A. melléklet
A1: 7/A. melléklet a 4/2019.(V.7.) önkormányzati rendelethez
A2: SORKIKÁPOLNA Község Önkormányzat 2018. évi zárszámadása
A3: A Gst. 3. § (1) bekezdése szerinti adósságot keletkeztető ügyletekből és kezességvállalásokból fennálló kötelezettségek az adósságot keletkeztető ügyletek futamidejének végéig, illetve a kezesség érvényesíthetőségéig, és a Gst. 45. § (1) bekezdés a) pontja felhatalmazása alapján kiadott jogszabályban meghatározottak szerinti saját bevételek (Ft)
A5: Rovat megnevezése | B5: Rovat-szám | C5: adósságot keletkeztető ügylet kezdő időpontja | D5: adósságot keletkeztető ügylet lejárati időpontja | E5: adósságot keletkeztető ügyletekből és kezességvállalásokból fennálló kötelezettségek
A6: Hosszú lejáratú hitelek, kölcsönök felvétele | B6: B8111
A7: ebből: pénzügyi vállalkozás | B7: B8111
A8: Likviditási célú hitelek, kölcsönök felvétele pénzügyi vállalkozástól | B8: B8112
A9: Rövid lejáratú hitelek, kölcsönök felvétele | B9: B8113
A10: ebből: pénzügyi vállalkozás | B10: B8113
A11: Hitel-, kölcsönfelvétel államháztartáson kívülről | B11: B811
A12: Forgatási célú belföldi értékpapírok beváltása, értékesítése | B12: B8121
A13: ebből: befektetési jegyek | B13: B8121
A14: Forgatási célú belföldi értékpapírok kibocsátása | B14: B8122
A15: Befektetési célú belföldi értékpapírok beváltása, értékesítése | B15: B8123
A16: ebből: kárpótlási jegyek | B16: B8123
A17: Befektetési célú belföldi értékpapírok kibocsátása | B17: B8124
... A26: Külföldi finanszírozás bevételei | B26: B82
A28: Rovat megnevezése | B28: 2015 | C28: 2016 | D28: 2017 | E28: 2018
A29: 353/2011. (XII. 30.) Korm. Rendelet értelmében az önkormányzat saját bevételének minősül
A30: 1. a helyi adóból származó bevétel,
A31: 2. az önkormányzati vagyon és az önkormányzatot megillető vagyoni értékű jog értékesítéséből és hasznosításából származó bevétel,
A32: 3. az osztalék, a koncessziós díj és a hozambevétel,
A33: 4. a tárgyi eszköz és az immateriális jószág, részvény, részesedés, vállalat értékesítéséből vagy privatizációból származó bevétel,
A34: 5. bírság-, pótlék- és díjbevétel, valamint
A35: 6. a kezességvállalással kapcsolatos megtérülés.
A36: ÖSSZESEN:
A48: a)4 hitel, kölcsön felvétele, átvállalása a folyósítás, átvállalás napjától a végtörlesztés napjáig, és annak aktuális tőketartozása,
A49: b) a számvitelről szóló törvény (a továbbiakban: Szt.) szerinti hitelviszonyt megtestesítő értékpapír forgalomba hozatala a forgalomba hozatal napjától a beváltás napjáig, kamatozó értékpapír esetén annak névértéke, egyéb értékpapír esetén annak vételára,
A50: c) váltó kibocsátása a kibocsátás napjától a beváltás napjáig, és annak a váltóval kiváltott kötelezettséggel megegyező, kamatot nem tartalmazó értéke,
A51: d) az Szt. szerint pénzügyi lízing lízingbevevői félként történő megkötése a lízing futamideje alatt, és a lízingszerződésben kikötött tőkerész hátralévő összege,
... A73: 6. a kezességvállalással kapcsolatos megtérülés.

Sheet 7B. melléklet
A1: 7/B. melléklet a 4/2019.(V.7.) önkormányzati rendelethez
A2: SORKIKÁPOLNA Község Önkormányzat 2018. évi zárszámadása
A3: A költségvetési év azon fejlesztései, amelyek megvalósításához a Gst. 3. § (1) bekezdése szerinti adósságot keletkeztető ügylet megkötése vált szükségessé (Ft)
A5: Rovat megnevezése | B5: Rovat-szám | C5: kiadási eredeti előirányzat | D5: kiadási módosított előirányzat | E5: teljesített kiadás | F5: ebből teljesített kiadás fedezete-saját forrás | G5: ebből teljesített kiadás fedezete-adósságot keletkeztető ügylet | H5: adósságot keletkeztető ügylet fajtája | I5: adósságot keletkeztető ügylet rovatszáma (B8) | J5: adósságot keletkeztető ügylet kezdő időpontja | K5: adósságot keletkeztető ügylet lejárati időpontja | L5: adósságot keletkeztető ügylet- várható visszatérítendő összege (kamattal) lejáratig mindösszesen
A6: Immateriális javak beszerzése, létesítése | B6: K61
A9: Ingatlanok beszerzése, létesítése | B9: K62
A12: Informatikai eszközök beszerzése, létesítése | B12: K63
A15: Egyéb tárgyi eszközök beszerzése, létesítése | B15: K64
A16: Falubusz beszerzés
A18: Részesedések beszerzése | B18: K65
A21: Meglévő részesedések növeléséhez kapcsolódó kiadások | B21: K66
A22: Beruházási célú előzetesen felszámított általános forgalmi adó | B22: K67
A23: Beruházások | B23: K6
A24: Ingatlanok felújítása | B24: K71
A27: Informatikai eszközök felújítása | B27: K72
A30: Egyéb tárgyi eszközök felújítása | B30: K73
A33: Felújítási célú előzetesen felszámított általános forgalmi adó | B33: K74
A34: Felújítások | B34: K7

Sheet 8. melléklet
A1: 8. melléklet a 4/2019.(V.7.) önkormányzati rendelethez
A2: SORKIKÁPOLNA Község Önkormányzat 2018. évi zárszámadása
A3: A költségvetési hiány külső finanszírozására vagy a költségvetési többlet felhasználására szolgáló finanszírozási bevételek és kiadások működési és felhalmozási cél szerinti tagolásban (Ft)
A5: Megnevezés | B5: Rovat-szám | C5: eredeti ei. Működési célú | D5: eredeti ei. Felhalmozási célú | E5: módosított ei. Működési célú | F5: módosított ei. Felhalmozási célú | G5: Teljesítés Működési célú | H5: Teljesítés Felhalmozási célú
A6: Hosszú lejáratú hitelek, kölcsönök törlesztése | B6: K9111
A7: ebből: pénzügyi vállalkozás | B7: K9111
A8: ebből: fedezeti ügyletek nettó kiadásai | B8: K9111
A9: Likviditási célú hitelek, kölcsönök törlesztése pénzügyi vállalkozásnak | B9: K9112
A10: Rövid lejáratú hitelek, kölcsönök törlesztése | B10: K9113
A11: ebből: pénzügyi vállalkozás | B11: K9113
A12: ebből: fedezeti ügyletek nettó kiadásai | B12: K9113
A13: Hitel-, kölcsöntörlesztés államháztartáson kívülre | B13: K911
A14: Forgatási célú belföldi értékpapírok vásárlása | B14: K9121
A15: ebből: befektetési jegyek | B15: K9121
A16: ebből: kárpótlási jegyek | B16: K9121
A17: Forgatási célú belföldi értékpapírok beváltása | B17: K9122
... A24: Államháztartáson belüli megelőlegezések folyósítása | B24: K913
A25: Államháztartáson belüli megelőlegezések visszafizetése | B25: K914 | C25: =SUM('3A. melléklet'!C109) -> 695888 | D25: 0 | E25: =SUM(C25) -> 695888 | F25: 0 | G25: =SUM(E25) -> 695888 | H25: 0
A26: Pénzeszközök betétként elhelyezése | B26: K916
A27: Pénzügyi lízing kiadásai | B27: K917
A28: Központi költségvetés sajátos finanszírozási kiadásai | B28: K918
A29: Belföldi finanszírozás kiadásai | B29: K91 | C29: =SUM(C13+C23+C24+C25+C26+C27+C28) -> 695888 | D29: =SUM(D13+D23+D24+D25+D26+D27+D28) -> 0 | E29: =SUM(E13+E23+E24+E25+E26+E27+E28) -> 695888 | F29: =SUM(F13+F23+F24+F25+F26+F27+F28) -> 0 | G29: =SUM(G13+G23+G24+G25+G26+G27+G28) -> 695888 | H29: =SUM(H13+H23+H24+H25+H26+H27+H28) -> 0
A30: Forgatási célú külföldi értékpapírok vásárlása | B30: K921
A31: Befektetési célú külföldi értékpapírok vásárlása | B31: K922
A32: Külföldi értékpapírok beváltása | B32: K923
A33: ebből: fedezeti ügyletek nettó kiadásai | B33: K923
A34: Külföldi hitelek, kölcsönök törlesztése | B34: K924
A35: ebből: nemzetközi fejlesztési szervezetek | B35: K924
A36: ebből: más kormányok | B36: K924
A37: ebből: külföldi pénzintézetek | B37: K924
A38: ebből: fedezeti ügyletek nettó kiadásai | B38: K924
A39: Külföldi finanszírozás kiadásai | B39: K92
A42: Megnevezés | B42: Rovat-szám | C42: eredeti ei. Működési célú | D42: eredeti ei. Felhalmozási célú | E42: módosított ei. Működési célú | F42: módosított ei. Felhalmozási célú | G42: Teljesítés Működési célú | H42: Teljesítés Felhalmozási célú
A43: Hosszú lejáratú hitelek, kölcsönök felvétele | B43: B8111
A44: ebből: pénzügyi vállalkozás | B44: B8111
A45: Likviditási célú hitelek, kölcsönök felvétele pénzügyi vállalkozástól | B45: B8112
A46: Rövid lejáratú hitelek, kölcsönök felvétele | B46: B8113
A47: ebből: pénzügyi vállalkozás | B47: B8113
A48: Hitel-, kölcsönfelvétel államháztartáson kívülről | B48: B811
A49: Forgatási célú belföldi értékpapírok beváltása, értékesítése | B49: B8121
...

Sheet 9. melléklet
A1: 9. melléklet a 4/2019.(V.7.) önkormányzati rendelethez
A2: SORKIKÁPOLNA Község Önkormányzat 2018. évi zárszámadása
A3: Támogatások, kölcsönök nyújtása és törlesztése (Ft)
A5: Megnevezés | B5: Rovat-szám | C5: eredeti ei. | D5: módosított ei. | E5: teljesítés
A6: központi költségvetési szervek részére | B6: K504
A7: központi kezelésű előirányzatok részére | B7: K504
A8: fejezeti kezelésű előirányzatok EU-s programokra és azok hazai társfinanszírozása részére | B8: K504
A9: egyéb fejezeti kezelésű előirányzatok részére | B9: K504
A10: társadalombiztosítás pénzügyi alapjai részére | B10: K504
A11: elkülönített állami pénzalapok részére | B11: K504
A12: helyi önkormányzatok és költségvetési szerveik részére | B12: K504
A13: társulások és költségvetési szerveik részére | B13: K504
A14: nemzetiségi önkormányzatok és költségvetési szerveik részére | B14: K504
A15: térségi fejlesztési tanácsok és költségvetési szerveik részére | B15: K504
A16: Működési célú visszatérítendő támogatások, kölcsönök nyújtása államháztartáson belülre | B16: K504
A17: központi költségvetési szervek részére | B17: K505
... A33: elkülönített állami pénzalapok részére | B33: K506
A34: helyi önkormányzatok és költségvetési szerveik részére | B34: K506 | C34: 532630 | D34: 939370 | E34: 939370
A35: társulások és költségvetési szerveik részére | B35: K506 | D35: 377273 | E35: 377273
A36: nemzetiségi önkormányzatok és költségvetési szerveik részére | B36: K506
A37: térségi fejlesztési tanácsok és költségvetési szerveik részére | B37: K506
A38: Egyéb működési célú támogatások államháztartáson belülre | B38: K506 | C38: =SUM(C28:C37) -> 532630 | D38: =SUM(D28:D37) -> 1316643 | E38: =SUM(E28:E37) -> 1316643
A39: egyházi jogi személyek részére | B39: K508
A40: egyéb civil szervezetek részére | B40: K508
A41: háztartások részére | B41: K508 | C41: 0 | D41: 0 | E41: 0
A42: pénzügyi vállalkozások részére | B42: K508
A43: állami többségi tulajdonú nem pénzügyi vállalkozások részére | B43: K508
A44: önkormányzati többségi tulajdonú nem pénzügyi vállalkozások részére | B44: K508
A45: egyéb vállalkozások részére | B45: K508
A46: Európai Unió részére | B46: K508
A47: kormányok és nemzetközi szervezetek részére | B47: K508
A48: egyéb külföldiek részére | B48: K508
A49: Működési célú visszatérítendő támogatások, kölcsönök nyújtása államháztartáson kívülre | B49: K508 | C49: 0 | D49: 0 | E49: 0
A50: egyházi jogi személyek részére | B50: K512
A51: egyéb civil szervezetek részére | B51: K512 | C51: 0 | D51: 5000 | E51: 5000
A52: háztartások részére | B52: K512 | D52: 70000 | E52: 70000
A53: pénzügyi vállalkozások részére | B53: K512
A54: állami többségi tulajdonú nem pénzügyi vállalkozások részére | B54: K512
A55: önkormányzati többségi tulajdonú nem pénzügyi vállalkozások részére | B55: K512
A56: egyéb vállalkozások részére | B56: K512
...

Sheet 10. melléklet
A1: 10. melléklet a 4/2019.(V.7.) önkormányzati rendelethez
A2: SORKIKÁPOLNA Község Önkormányzat 2018. évi zárszámadása
A3: Lakosságnak juttatott támogatások, szociális, rászorultsági jellegű ellátások (Ft)
A5: Megnevezés | B5: Rovat-szám | C5: eredeti ei. | D5: módosított ei. | E5: teljesítés
A6: mozgáskorlátozottak közlekedési támogatása | B6: K44
A7: mozgáskorlátozottak szerzési és átalakítási támogatása | B7: K44
A8: megváltozott munkaképességűek illetve egészségkárosodottak keresetkiegészítése | B8: K44
A9: cukorbetegek támogatása | B9: K44
A10: helyi megállapítású ápolási díj [Szoctv. 43/B. §] | B10: K44
A11: helyi megállapítású közgyógyellátás [Szoctv.50.§ (3) bek.] | B11: K44
A12: Betegséggel kapcsolatos (nem társadalombiztosítási) ellátások | B12: K44
A13: foglalkoztatást helyettesítő támogatás [Szoctv. 35. § (1) bek.] | B13: K45
A14: Foglalkoztatással, munkanélküliséggel kapcsolatos ellátások | B14: K45
A15: hozzájárulás a lakossági energiaköltségekhez | B15: K46
A16: lakbértámogatás | B16: K46
A17: lakásfenntartási támogatás [Szoctv. 38. § (1) bek. a) és b) pontok] | B17: K46
... A22: állami gondozottak pénzbeli juttatásai | B22: K47
A23: oktatásban résztvevők pénzbeli juttatásai | B23: K47 | C23: 70000 | D23: 70000 | E23: 0
A24: Intézményi ellátottak pénzbeli juttatásai | B24: K47 | C24: =SUM(C23) -> 70000 | D24: =SUM(D23) -> 70000 | E24: =SUM(E23) -> 0
A25: időskorúak járadéka [Szoctv. 32/B. § (1) bek.] | B25: K48
A26: rendszeres szociális segély [Szoctv. 37. § (1) bek. a) - d) pontok] | B26: K48
A27: átmeneti segély [Szoctv. 45.§] | B27: K48
A28: temetési segély [Szoctv. 46.§] | B28: K48
A29: egyéb, az önkormányzat rendeletében megállapított juttatás | B29: K48
A30: természetben nyújtott rendszeres szociális segély [Szoctv. 47.§ (1) bek. a) pont] | B30: K48
A31: átmeneti segély [Szoctv. 47.§ (1) bek. c) pont] | B31: K48
A32: temetési segély [Szoctv. 47.§ (1) bek. d) pont} | B32: K48
A33: köztemetés [Szoctv. 48.§] | B33: K48
A34: rászorultságtól függõ normatív kedvezmények [Gyvt. 151. § (5) bek.] | B34: K48
A35: önkormányzat által saját hatáskörben (nem szociális és gyermekvédelmi előírások alapján) adott pénzügyi ellátás | B35: K48 | C35: 1580000 | D35: 1580053 | E35: 1580053
A36: önkormányzat által saját hatáskörben (nem szociális és gyermekvédelmi előírások alapján) adott természetbeni ellátás | B36: K48
A37: Egyéb nem intézményi ellátások | B37: K48 | C37: =C35 -> 1580000 | D37: =D35 -> 1580053 | E37: =E35 -> 1580053
A38: Ellátottak pénzbeli juttatásai | B38: K4 | C38: =C12+C14+C21+C24+C37 -> 1650000 | D38: =D12+D14+D21+D24+D37 -> 1650053 | E38: =E12+E14+E21+E24+E37 -> 1580053

Sheet 11 melléklet
B1: 11. melléklet a 4/2019.(V.7.) önkormányzati rendelethez
A2: SORKIKÁPOLNA Község Önkormányzat 2018. évi zárszámadása
A3: Támogatások, kölcsönök bevételei (Ft)
A5: Megnevezés | B5: Rovat-szám | C5: eredeti ei. | D5: módosított ei. | E5: teljesítés
A6: központi költségvetési szervektől | B6: B14
A7: központi kezelésű előirányzatoktól | B7: B14
A8: fejezeti kezelésű előirányzatok EU-s programokra és azok hazai társfinanszírozásától | B8: B14
A9: egyéb fejezeti kezelésű előirányzatoktól | B9: B14
A10: társadalombiztosítás pénzügyi alapjaitól | B10: B14
A11: elkülönített állami pénzalapoktól | B11: B14
A12: helyi önkormányzatok és költségvetési szerveiktől | B12: B14
A13: társulások és költségvetési szerveiktől | B13: B14
A14: nemzetiségi önkormányzatok és költségvetési szerveiktől | B14: B14
A15: térségi fejlesztési tanácsok és költségvetési szerveiktől | B15: B14
A16: Működési célú visszatérítendő támogatások, kölcsönök visszatérülése államháztartáson belülről | B16: B14
A17: központi költségvetési szervektől | B17: B15
... A28: központi költségvetési szervektől | B28: B16
A29: központi kezelésű előirányzatoktól | B29: B16 | C29: 0 | D29: 0 | E29: 0
A30: fejezeti kezelésű előirányzatok EU-s programokra és azok hazai társfinanszírozásától | B30: B16 | E30: 14680919
A31: egyéb fejezeti kezelésű előirányzatoktól | B31: B16
A32: társadalombiztosítás pénzügyi alapjaitól | B32: B16
A33: elkülönített állami pénzalapoktól | B33: B16 | C33: 0 | E33: 930628
A34: helyi önkormányzatok és költségvetési szerveiktől | B34: B16 | C34: 81530 | D34: 81530 | E34: 243926
A35: társulások és költségvetési szerveiktől | B35: B16 | E35: 214375
A36: nemzetiségi önkormányzatok és költségvetési szerveiktől | B36: B16
A37: térségi fejlesztési tanácsok és költségvetési szerveiktől | B37: B16
A38: Egyéb működési célú támogatások bevételei államháztartáson belülről | B38: B16 | C38: =SUM(C28:C37) -> 81530 | D38: =SUM(D28:D37) -> 81530 | E38: =SUM(E28:E37) -> 16069848
A39: központi költségvetési szervektől | B39: B23
A40: központi kezelésű előirányzatoktól | B40: B23
A41: fejezeti kezelésű előirányzatok EU-s programokra és azok hazai társfinanszírozásától | B41: B23
A42: egyéb fejezeti kezelésű előirányzatoktól | B42: B23
A43: társadalombiztosítás pénzügyi alapjaitól | B43: B23
A44: elkülönített állami pénzalapoktól | B44: B23
A45: helyi önkormányzatok és költségvetési szerveiktől | B45: B23
A46: társulások és költségvetési szerveiktől | B46: B23
A47: nemzetiségi önkormányzatok és költségvetési szerveiktől | B47: B23
A48: térségi fejlesztési tanácsok és költségvetési szerveiktől | B48: B23
A49: Felhalmozási célú visszatérítendő támogatások, kölcsönök visszatérülése államháztartáson belülről | B49: B23
A50: központi költségvetési szervektől | B50: B24
... A60: Felhalmozási célú visszatérítendő támogatások, kölcsönök igénybevétele államháztartáson belülről | B60: B24
...

Sheet 12. melléklet
A1: 12. melléklet a 4/2019.(V.7.) önkormányzati rendelethez
A2: SORKIKÁPOLNA Község Önkormányzat 2018. évi zárszámadása
A3: Helyi adó és egyéb közhatalmi bevételek (Ft)
A5: Megnevezés | B5: Rovat-szám | C5: eredeti ei. | D5: módosított ei. | E5: teljesítés
A6: építményadó | B6: B34
A7: épület után fizetett idegenforgalmi adó | B7: B34
A8: magánszemélyek kommunális adója | B8: B34 | C8: 240000 | D8: 240000 | E8: 273889
A9: telekadó | B9: B34
A10: Vagyoni tipusú adók | B10: B34 | C10: =SUM(C6:C9) -> 240000 | D10: =D8 -> 240000 | E10: =E8 -> 273889
A11: Értékesítési és forgalmi adók | B11: B351 | C11: =SUM(C12:C13) -> 4650000 | D11: =SUM(D12:D13) -> 4650000 | E11: =SUM(E12:E13) -> 3264911
A12: ebből: állandó jeleggel végzett iparűzési tevékenység után fizetett helyi iparűzési adó | B12: B351 | C12: 4650000 | D12: 4650000 | E12: 3264911
A13: ebből: ideiglenes jeleggel végzett tevékenység után fizetett helyi iparűzési adó | B13: B351
A14: Gépjárműadók | B14: B354 | C14: =SUM(C15:C18) -> 500000 | D14: =SUM(D15:D18) -> 500000 | E14: =SUM(E15:E18) -> 516329
A15: ebből: belföldi gépjárművek adójának a központi költségvetést megillető része | B15: B354
A16: ebből: belföldi gépjárművek adójának a helyi önkormányzatot megillető része | B16: B354 | C16: 500000 | D16: 500000 | E16: 516329
A17: ebből: külföldi gépjárművek adója | B17: B354
A18: ebből: gépjármű túlsúlydíj | B18: B354
A19: Egyéb áruhasználati és szolgáltatási adók | B19: B355 | C19: =SUM(C20:C21) -> 30000 | D19: =SUM(D20:D21) -> 30000 | E19: =SUM(E20:E21) -> 111900
A20: ebből: tartózkodás után fizetett idegenforgalmi adó | B20: B355 | C20: 30000 | D20: 30000 | E20: 111900
A21: ebből: talajterhelési díj | B21: B355 | C21: 0 | D21: 0 | E21: 0
A22: Termékek és szolgáltatások adói | B22: B35 | C22: =C11+C16+C19 -> 5180000 | D22: =D19+D16+D11 -> 5180000 | E22: =E19+E16+E11 -> 3893140
A23: eljárási illetékek | B23: B36
A24: igazgatási szolgáltatási díjak | B24: B36 | C24: 0 | D24: 0 | E24: 0
A25: felügyeleti díjak | B25: B36
A26: ebrendészeti hozzájárulás | B26: B36
A27: környezetvédelmi bírság | B27: B36
A28: természetvédelmi bírság | B28: B36
A29: műemlékvédelmi bírság | B29: B36
A30: építésügyi bírság | B30: B36
A31: szabálysértési pénz- és helyszíni mbírság és a közlekedési szabályszegések után kiszabott közigazgatási bírság helyi önkormányzatot megillető része | B31: B36
A32: talajterhelési díj | B32: B36 | C32: 0 | D32: 0 | E32: 20348
A33: egyéb bírság | B33: B36
A34: Egyéb közhatalmi bevételek | B34: B36 | C34: =SUM(C23:C33) -> 0 | D34: =SUM(D23:D33) -> 0 | E34: =SUM(E23:E33) -> 20348

Sheet 13. melléklet
A1: 13. melléklet a 4/2019.(V.7.) önkormányzati rendelethez
A2: SORKIKÁPOLNA Község Önkormányzat 2018. évi zárszámadása
A3: A helyi önkormányzat pénzmaradvány kimutatása (Ft)
A6: Megnevezés
A7: 01 Alaptevékenység költségvetési bevételei | B7: 54089636
A8: 02 Alaptevékenység költségvetési kiadásai | B8: 52483451
A9: I Alaptevékenység költségvetési egyenlege (=01-02) | B9: =B7-B8 -> 1606185
A10: 03 Alaptevékenység finanszírozási bevételei | B10: 16735509
A11: 04 Alaptevékenység finanszírozási kiadásai | B11: 695888
A12: II Alaptevékenység finanszírozási egyenlege (=03-04) | B12: =B10-B11 -> 16039621
A13: A) Alaptevékenység maradványa (=±I±II) | B13: =B9+B12 -> 17645806
A14: 05 Vállalkozási tevékenység költségvetési bevételei | B14: 0
A15: 06 Vállalkozási tevékenység költségvetési kiadásai | B15: 0
A16: III Vállalkozási tevékenység költségvetési egyenlege (=05-06) | B16: 0
A17: 07 Vállalkozási tevékenység finanszírozási bevételei | B17: 0
A18: 08 Vállalkozási tevékenység finanszírozási kiadásai | B18: 0
A19: IV Vállalkozási tevékenység finanszírozási egyenlege (=07-08) | B19: 0
A20: B) Vállalkozási tevékenység maradványa (=±III±IV) | B20: 0
A21: C) Összes maradvány (=A+B) | B21: =B13+B20 -> 17645806
A22: D) Alaptevékenység kötelezettségvállalással terhelt maradványa | B22: 0
A23: E) Alaptevékenység szabad maradványa (=A-D) | B23: =B21 -> 17645806
A24: F) Vállalkozási tevékenységet terhelő befizetési kötelezettség (=B*0,1) | B24: 0
A25: G) Vállalkozási tevékenység felhasználható maradványa (=B-F) | B25: 0
A26: Ebből irányító szerv által elvonásra kerül | B26: 0

Sheet 14. melléklet
A1: 14. melléklet a 4/2019.(V.7.) önkormányzati rendelethez
A2: SORKIKÁPOLNA Község Önkormányzat 2018. évi zárszámadása
A3: A helyi önkormányzat eredménykimutatása (Ft)
A5: Megnevezés | B5: Előző időszak (2017. év) | C5: Módosítások | D5: Tárgyi időszak (2018. év)
A6: 01 Közhatalmi eredményszemléletű bevételek | B6: 10624848 | C6: 0 | D6: 5563589
A7: 02 Eszközök és szolgáltatások értékesítése nettó eredményszemléletű bevételei | B7: 0 | C7: 0 | D7: 0
A8: 03 Tevékenység egyéb nettó eredményszemléletű bevételei | B8: 120000 | C8: 0 | D8: 134520
A9: I Tevékenység nettó eredményszemléletű bevétele (=01+02+03) | B9: =SUM(B6:B8) -> 10744848 | C9: =SUM(C6:C8) -> 0 | D9: =SUM(D6:D8) -> 5698109
A10: 04 Saját termelésű készletek állományváltozása | B10: 0 | C10: 0 | D10: 0
A11: 05 Saját előállítású eszközök aktivált értéke | B11: 0 | C11: 0 | D11: 0
A12: II Aktivált saját teljesítmények értéke (=±04+05) | B12: 0 | C12: 0 | D12: 0
A13: 06 Központi működési célú támogatások eredményszemléletű bevételei | B13: 18704461 | C13: 0 | D13: 17903004
A14: 07 Egyéb működési célú támogatások eredményszemléletű bevételei | B14: 5838517 | C14: 0 | D14: 16069848
A15: 08 Felhalmozási célú támogatások eredményszemléletű bevételei | B15: 0 | C15: 0 | D15: 14659178
A16: 09 Különféle egyéb eredményszemléletű bevételek | B16: 1724225 | C16: 0 | D16: 21990290
A17: III Egyéb eredményszemléletű bevételek (=06+07+08+09) | B17: =SUM(B13:B16) -> 26267203 | C17: =SUM(C13:C16) -> 0 | D17: =SUM(D13:D16) -> 70622320
A18: 10 Anyagköltség | B18: 1312693 | C18: 0 | D18: 1662048
A19: 11 Igénybe vett szolgáltatások értéke | B19: 5065201 | C19: 0 | D19: 6721648
A20: 12 Eladott áruk beszerzési értéke | B20: 0 | C20: 0 | D20: 0
A21: 13 Eladott (közvetített) szolgáltatások értéke | B21: 0 | C21: 0 | D21: 0
A22: IV Anyagjellegű ráfordítások (=10+11+12+13) | B22: =SUM(B18:B21) -> 6377894 | C22: =SUM(C18:C21) -> 0 | D22: =SUM(D18:D21) -> 8383696
A23: 14 Bérköltség | B23: 5145363 | C23: 0 | D23: 3629644
A24: 15 Személyi jellegű egyéb kifizetések | B24: 4355818 | C24: 0 | D24: 5989195
A25: 16 Bérjárulékok | B25: 2176866 | C25: 0 | D25: 2056346
A26: V Személyi jellegű ráfordítások (=14+15+16) | B26: =SUM(B23:B25) -> 11678047 | C26: =SUM(C23:C25) -> 0 | D26: =SUM(D23:D25) -> 11675185
A27: VI Értékcsökkenési leírás | B27: 13222860 | C27: 0 | D27: 3561955
A28: VII Egyéb ráfordítások | B28: 1519348 | C28: 0 | D28: 42349475
A29: A) TEVÉKENYSÉGEK EREDMÉNYE (=I±II+III-IV-V-VI-VII) | B29: =B9+B12+B17-B22-B26-B27-B28 -> 4213902 | C29: =C9+C12+C17-C22-C26-C27-C28 -> 0 | D29: =D9+D12+D17-D22-D26-D27-D28 -> 10350118
A30: 17 Kapott (járó) osztalék és részesedés | B30: 0 | C30: 0 | D30: 0
A31: 18 Részesedéssekből származó eredményszemléletű bevételek, árfolyamnyereségek
A32: 19 Befektetett pénzügyi eszközökből származó eredményszemléletű bevételek, árfolyamnyereségek
A33: 20 Kapott (járó) kamatok és kamatjellegű eredményszemléletű bevételek | B33: 30973 | C33: 0 | D33: 17625
A34: 21 Pénzügyi műveletek egyéb eredményszemléletű bevételei (>=21a-21b) | B34: 0 | C34: 0 | D34: 0
A35: 21a - ebből: árfolyamnyereség | B35: 0 | C35: 0 | D35: 0
A36: VIII Pénzügyi műveletek eredményszemléletű bevételei (=17+18+19+20+21) | B36: 30973 | C36: 0 | D36: =D33 -> 17625
A37: 22 Részesedésekből származó ráfordítások, árfolyamveszteségek
A38: 23 Befektetett pénzügyi eszközökből származó ráfordítások, árfolyamveszteségek
A39: 24 Fizetendő kamatok és kamatjellegű ráfordítások | B39: 0 | C39: 0 | D39: 0
A40: 25 Részesedések, értékpapírok, pénzeszközök értékvesztése | B40: 0 | C40: 0 | D40: 0
A41: 26 Pénzügyi műveletek egyéb ráfordításai (>=21a) (31>=32) | B41: 0 | C41: 0 | D41: 0
...

Sheet 15.melléklet
B1: 15. melléklet a 4/2019.(V.7.) önkormányzati rendelethez
A3: Sorkikápolna Község Önkormányzata 2018. évi zárszámadása
A4: A helyi önkormányzat vagyonkimutatása (Ft)
A6: ÖNKORMÁNYZAT
A7: Megnevezés | B7: Forgalom-képtelen törzsvagyon | C7: Nemzetgazdasági szempontból kiemelt jelentőségű törzsvagyon | D7: Korlátozottan forgalomképes vagyon | E7: Üzleti vagyon | F7: Mindösszesen
A8: ESZKÖZÖK | B8: =SUM(B26+B41+B55+B56+B61+B62+B63) -> 102737000 | C8: =SUM(C26+C41+C55+C56+C61+C62+C63) -> 0 | D8: =SUM(D26+D41+D55+D56+D61+D62+D63) -> 211995000 | E8: =SUM(E26+E41+E55+E56+E61+E62+E63) -> 54102041 | F8: =SUM(B8:E8) -> 368834041
A9: A/I/1 Vagyoni értékű jogok | F9: =SUM(B9:E9) -> 0
A10: A/I/2 Szellemi termékek | F10: =SUM(B10:E10) -> 0
A11: A/I/3 Immateriális javak értékhelyesbítése | F11: =SUM(B11:E11) -> 0
A12: A/I Immateriális javak | B12: =SUM(B9:B11) -> 0 | C12: =SUM(C9:C11) -> 0 | D12: =SUM(D9:D11) -> 0 | E12: =SUM(E9:E11) -> 0 | F12: =SUM(B12:E12) -> 0
A13: A/II/1 Ingatlanok és a kapcsolódó vagyoni értékű jogok | B13: 102737000 | D13: 208712000 | E13: 29317599 | F13: =SUM(B13:E13) -> 340766599
A14: A/II/2 Gépek, berendezések, felszerelések, járművek | B14: 0 | D14: 3283000 | E14: 723914 | F14: =SUM(B14:E14) -> 4006914
A15: A/II/3 Tenyészállatok | F15: =SUM(B15:E15) -> 0
A16: A/II/4 Beruházások, felújítások | F16: =SUM(B16:E16) -> 0
A17: A/II/5 Tárgyi eszközök értékhelyesbítése | F17: =SUM(B17:E17) -> 0
A18: A/II Tárgyi eszközök | B18: =SUM(B13:B17) -> 102737000 | C18: =SUM(C13:C17) -> 0 | D18: =SUM(D13:D17) -> 211995000 | E18: =SUM(E13:E17) -> 30041513 | F18: =SUM(B18:E18) -> 344773513
A19: A/III/1 Tartós részesedések | B19: 0 | E19: 327180 | F19: =SUM(B19:E19) -> 327180
A20: A/III/2 Tartós hitelviszonyt megtestesítő értékpapírok | F20: =SUM(B20:E20) -> 0
A21: A/III/3 Befektetett pénzügyi eszközök értékhelyesbítése | F21: =SUM(B21:E21) -> 0
A22: A/III Befektetett pénzügyi eszközök | B22: =SUM(B19:B21) -> 0 | C22: =SUM(C19:C21) -> 0 | D22: =SUM(D19:D21) -> 0 | E22: =SUM(E19:E21) -> 327180 | F22: =SUM(B22:E22) -> 327180
A23: A/IV/1 Koncesszióba, vagyonkezelésbe adott eszközök | F23: =SUM(B23:E23) -> 0
A24: A/IV/2 Koncesszióba, vagyonkezelésbe adott eszközök értékhelyesbítése | F24: =SUM(B24:E24) -> 0
A25: A/IV Koncesszióba, vagyonkezelésbe adott eszközök | B25: =SUM(B23:B24) -> 0 | C25: =SUM(C23:C24) -> 0 | D25: =SUM(D23:D24) -> 0 | E25: =SUM(E23:E24) -> 0 | F25: =SUM(B25:E25) -> 0
A26: A) NEMZETI VAGYONBA TARTOZÓ BEFEKTETETT ESZKÖZÖK | B26: =SUM(B25,B22,B18,B12) -> 102737000 | C26: =SUM(C25,C22,C18,C12) -> 0 | D26: =SUM(D25,D22,D18,D12) -> 211995000 | E26: =SUM(E25,E22,E18,E12) -> 30368693 | F26: =SUM(B26:E26) -> 345100693
A27: B/I/1 Vásárolt készletek | F27: =SUM(B27:E27) -> 0
A28: B/I/2 Átsorolt, követelés fejében átvett készletek | F28: =SUM(B28:E28) -> 0
A29: B/I/3 Egyéb készletek | F29: =SUM(B29:E29) -> 0
A30: B/I/4 Befejezetlen termelés, félkész termékek, késztermékek | F30: =SUM(B30:E30) -> 0
A31: B/I/5 Növendék-, hízó és egyéb állatok | F31: =SUM(B31:E31) -> 0
A32: B/I Készletek | B32: =SUM(B27:B31) -> 0 | C32: =SUM(C27:C31) -> 0 | D32: =SUM(D27:D31) -> 0 | E32: =SUM(E27:E31) -> 0 | F32: =SUM(B32:E32) -> 0
A33: B/II/1 Nem tartós részesedések | F33: =SUM(B33:E33) -> 0
A34: B/II/2 Forgatási célú hitelviszonyt megtestesítő értékpapírok | F34: =SUM(B34:E34) -> 0
A35: B/II/2a - ebből: kárpótlási jegyek | F35: =SUM(B35:E35) -> 0
A36: B/II/2b - ebből: kincstárjegyek | F36: =SUM(B36:E36) -> 0
A37: B/II/2c - ebből: államkötvények | F37: =SUM(B37:E37) -> 0
A38: B/II/2d - ebből: helyi önkormányzatok kötvényei | F38: =SUM(B38:E38) -> 0
A39: B/II/2e - ebből: befektetési jegyek | F39: =SUM(B39:E39) -> 0
A40: B/II Értékpapírok | B40: =SUM(B33:B39) -> 0 | C40: =SUM(C33:C39) -> 0 | D40: =SUM(D33:D39) -> 0 | E40: =SUM(E33:E39) -> 0 | F40: =SUM(B40:E40) -> 0
A41: B) NEMZETI VAGYONBA TARTOZÓ FORGÓESZKÖZÖK | B41: =SUM(B40,B32) -> 0 | C41: =SUM(C40,C32) -> 0 | D41: =SUM(D40,D32) -> 0 | E41: =SUM(E40,E32) -> 0 | F41: =SUM(B41:E41) -> 0
A42: C/I/1. Éven túli lejáratú forint lekötött bankbetétek | F42: =SUM(B42:E42) -> 0
...
